BEGIN:VCALENDAR
VERSION:2.0
PRODID:-//eventon.com NONSGML v1.0//EN
CALSCALE:GREGORIAN
METHOD:PUBLISH
BEGIN:VEVENT
UID:69ed392dd2576
DTSTAMP:20260425T215909Z
DTSTART:20250719T130000Z
DTEND:20250719T160000Z
LOCATION:
SUMMARY:The Hip Snacks (Saturday)
DESCRIPTION:Playing LIVE in the Rathskeller Biergarten 1-4pm! 21+ Prevailin
 g Cover Charge\nhttps://rathskeller.com/events/the-hip-snacks-saturday/
URL:https://rathskeller.com/events/the-hip-snacks-saturday/
END:VEVENT
END:VCALENDAR