BEGIN:VCALENDAR
VERSION:2.0
PRODID:-//eventon.com NONSGML v1.0//EN
CALSCALE:GREGORIAN
METHOD:PUBLISH
BEGIN:VEVENT
UID:69ed2506c0227
DTSTAMP:20260425T203310Z
DTSTART:20250724T190000Z
DTEND:20250724T220000Z
LOCATION:
SUMMARY:Benito Dibartoli (Thursday)
DESCRIPTION:Playing LIVE at the Rathskeller Biergarten 7-10pm! 21+ Prevaili
 ng Cover Charge\nhttps://rathskeller.com/events/benito-dibartoli-thursday-3
 /
URL:https://rathskeller.com/events/benito-dibartoli-thursday-3/
END:VEVENT
END:VCALENDAR