BEGIN:VCALENDAR
VERSION:2.0
PRODID:-//eventon.com NONSGML v1.0//EN
CALSCALE:GREGORIAN
METHOD:PUBLISH
BEGIN:VEVENT
UID:69ed145594e06
DTSTAMP:20260425T192157Z
DTSTART:20250726T170000Z
DTEND:20250726T190000Z
LOCATION:
SUMMARY:Jessie Wilson (Saturday)
DESCRIPTION:Playing LIVE at the Rathskeller Biergarten 5-7pm! 21+ Prevailin
 g Cover Charge\nhttps://rathskeller.com/events/jessi-willson-saturday/
URL:https://rathskeller.com/events/jessi-willson-saturday/
END:VEVENT
END:VCALENDAR