BEGIN:VCALENDAR
VERSION:2.0
PRODID:-//eventon.com NONSGML v1.0//EN
CALSCALE:GREGORIAN
METHOD:PUBLISH
BEGIN:VEVENT
UID:69ed040a88e77
DTSTAMP:20260425T181226Z
DTSTART:20250816T170000Z
DTEND:20250816T190000Z
LOCATION:
SUMMARY:Indy's Bluesfest (Saturday)
DESCRIPTION:Gordon Bonham &amp; Benito DiBartoli Playing LIVE in the Rathsk
 eller Biergarten 5-7pm! 21+ Prevailing Cover Charge\nhttps://rathskeller.co
 m/events/indys-bluesfest-saturday/
URL:https://rathskeller.com/events/indys-bluesfest-saturday/
END:VEVENT
END:VCALENDAR