BEGIN:VCALENDAR
VERSION:2.0
PRODID:-//eventon.com NONSGML v1.0//EN
CALSCALE:GREGORIAN
METHOD:PUBLISH
BEGIN:VEVENT
UID:69ecf44ea3b42
DTSTAMP:20260425T170518Z
DTSTART:20250821T190000Z
DTEND:20250821T220000Z
LOCATION:
SUMMARY:Phil Pierle (Thursday)
DESCRIPTION:Playing LIVE at the Rathskeller Biergarten 7-10pm! 21+ Prevaili
 ng Cover Charge\nhttps://rathskeller.com/events/phil-pierle-thursday-5/
URL:https://rathskeller.com/events/phil-pierle-thursday-5/
END:VEVENT
END:VCALENDAR