BEGIN:VCALENDAR
VERSION:2.0
PRODID:-//eventon.com NONSGML v1.0//EN
CALSCALE:GREGORIAN
METHOD:PUBLISH
BEGIN:VEVENT
UID:69ece44d3b28d
DTSTAMP:20260425T155701Z
DTSTART:20250827T183000Z
DTEND:20250827T213000Z
LOCATION:
SUMMARY:SRV Tribute (Wednesday)
DESCRIPTION:Playing LIVE at the Rathskeller Biergarten 6:30-9:30! 21+ Preva
 iling Cover Charge\nhttps://rathskeller.com/events/srv-tribute-wednesday/
URL:https://rathskeller.com/events/srv-tribute-wednesday/
END:VEVENT
END:VCALENDAR