BEGIN:VCALENDAR
VERSION:2.0
PRODID:-//eventon.com NONSGML v1.0//EN
CALSCALE:GREGORIAN
METHOD:PUBLISH
BEGIN:VEVENT
UID:69ecf2fe11e1f
DTSTAMP:20260425T165942Z
DTSTART:20250828T190000Z
DTEND:20250828T220000Z
LOCATION:
SUMMARY:Corey Cox & Alexander Camp (Thursday)
DESCRIPTION:Playing LIVE at the Rathskeller Biergarten 7-10pm! 21+ Prevaili
 ng Cover Charge\nhttps://rathskeller.com/events/corey-cox-alexander-camp-th
 ursday-4/
URL:https://rathskeller.com/events/corey-cox-alexander-camp-thursday-4/
END:VEVENT
END:VCALENDAR