BEGIN:VCALENDAR
VERSION:2.0
PRODID:-//eventon.com NONSGML v1.0//EN
CALSCALE:GREGORIAN
METHOD:PUBLISH
BEGIN:VEVENT
UID:69ed03c30216c
DTSTAMP:20260425T181115Z
DTSTART:20250911T183000Z
DTEND:20250911T213000Z
LOCATION:
SUMMARY:Gordon Bonham (Thursday)
DESCRIPTION:Playing LIVE at the Rathskeller Biergarten 6:30-9:30! 21+ Preva
 iling Cover Charge\nhttps://rathskeller.com/events/gordon-bonham-thursday-4
 /
URL:https://rathskeller.com/events/gordon-bonham-thursday-4/
END:VEVENT
END:VCALENDAR