BEGIN:VCALENDAR
VERSION:2.0
PRODID:-//eventon.com NONSGML v1.0//EN
CALSCALE:GREGORIAN
METHOD:PUBLISH
BEGIN:VEVENT
UID:69ed128066806
DTSTAMP:20260425T191408Z
DTSTART:20250927T170000Z
DTEND:20250927T190000Z
LOCATION:
SUMMARY:Indy's Bluesfest (Saturday)
DESCRIPTION:Gordon Bonham &amp; Benito DiBartoli Playing LIVE at the Rathsk
 eller Biergarten 5-7pm!\nhttps://rathskeller.com/events/indys-bluesfest-sat
 urday-2/
URL:https://rathskeller.com/events/indys-bluesfest-saturday-2/
END:VEVENT
END:VCALENDAR