BEGIN:VCALENDAR
VERSION:2.0
PRODID:-//eventon.com NONSGML v1.0//EN
CALSCALE:GREGORIAN
METHOD:PUBLISH
BEGIN:VEVENT
UID:69ed250219ab9
DTSTAMP:20260425T203306Z
DTSTART:20251024T190000Z
DTEND:20251024T230000Z
LOCATION:
SUMMARY:Gordon Bonham\,  Benito DiBartoli\,  Paul Holdman (Friday)
DESCRIPTION:Playing LIVE at the Rathskeller Biergarten 7-11pm! 21+ Prevaili
 ng Cover Charge\nhttps://rathskeller.com/events/gordon-bonham-benito-dibart
 oli-paul-holdman-friday/
URL:https://rathskeller.com/events/gordon-bonham-benito-dibartoli-paul-holdman-friday/
END:VEVENT
END:VCALENDAR