BEGIN:VCALENDAR
VERSION:2.0
PRODID:-//eventon.com NONSGML v1.0//EN
CALSCALE:GREGORIAN
METHOD:PUBLISH
BEGIN:VEVENT
UID:69ed396a9bed0
DTSTAMP:20260425T220010Z
DTSTART:20250503T130000Z
DTEND:20250503T160000Z
LOCATION:
SUMMARY:Steve Fulton (Saturday)
DESCRIPTION:Playing LIVE 1-4pm in the Rathskeller Biergarten (Weather permi
 tting) 21+ Prevailing Cover Charge\nhttps://rathskeller.com/events/steve-fu
 lton-saturday-2/
URL:https://rathskeller.com/events/steve-fulton-saturday-2/
END:VEVENT
END:VCALENDAR