BEGIN:VCALENDAR
VERSION:2.0
PRODID:-//eventon.com NONSGML v1.0//EN
CALSCALE:GREGORIAN
METHOD:PUBLISH
BEGIN:VEVENT
UID:69ed4b1f1b610
DTSTAMP:20260425T231543Z
DTSTART:20250510T130000Z
DTEND:20250510T160000Z
LOCATION:
SUMMARY:MWO (Saturday)
DESCRIPTION:Playing LIVE in the Rathskeller Biergarten (Weather Permitting)
  1-4pm 21+ Prevailing Cover Charge\nhttps://rathskeller.com/events/mwo-satu
 rday/
URL:https://rathskeller.com/events/mwo-saturday/
END:VEVENT
END:VCALENDAR