BEGIN:VCALENDAR
VERSION:2.0
PRODID:-//eventon.com NONSGML v1.0//EN
CALSCALE:GREGORIAN
METHOD:PUBLISH
BEGIN:VEVENT
UID:69ed5b48ae8be
DTSTAMP:20260426T002440Z
DTSTART:20250531T130000Z
DTEND:20250531T160000Z
LOCATION:
SUMMARY:Brad Mitchell (Saturday)
DESCRIPTION:Playing LIVE in the Rathskeller Biergarten (Weather Permitting)
  21+ Prevailing Cover Charge\nhttps://rathskeller.com/events/brad-mitchell-
 saturday-9/
URL:https://rathskeller.com/events/brad-mitchell-saturday-9/
END:VEVENT
END:VCALENDAR