BEGIN:VCALENDAR
VERSION:2.0
PRODID:-//eventon.com NONSGML v1.0//EN
CALSCALE:GREGORIAN
METHOD:PUBLISH
BEGIN:VEVENT
UID:69ed6bcc5ee83
DTSTAMP:20260426T013508Z
DTSTART:20250606T183000Z
DTEND:20250606T194500Z
LOCATION:
SUMMARY:Brad Mitchell (Friday)
DESCRIPTION:Playing LIVE in the Rathskeller Biergarten (Weather Permitting)
  6:30-7:45pm 21+ Prevailing Cover Charge\nhttps://rathskeller.com/events/br
 ad-mitchell-friday-10/
URL:https://rathskeller.com/events/brad-mitchell-friday-10/
END:VEVENT
END:VCALENDAR