BEGIN:VCALENDAR
VERSION:2.0
PRODID:-//eventon.com NONSGML v1.0//EN
CALSCALE:GREGORIAN
METHOD:PUBLISH
BEGIN:VEVENT
UID:69ed7a6eb73c1
DTSTAMP:20260426T023734Z
DTSTART:20250607T130000Z
DTEND:20250607T160000Z
LOCATION:
SUMMARY:Dream Slice (Saturday)
DESCRIPTION:Playing LIVE in the Rathskeller Biergarten (Weather Permitting)
  1-4pm 21+ Prevailing Cover Charge\nhttps://rathskeller.com/events/dream-sl
 ice-saturday-8/
URL:https://rathskeller.com/events/dream-slice-saturday-8/
END:VEVENT
END:VCALENDAR