BEGIN:VCALENDAR
VERSION:2.0
PRODID:-//eventon.com NONSGML v1.0//EN
CALSCALE:GREGORIAN
METHOD:PUBLISH
BEGIN:VEVENT
UID:69ed8b41a1a5b
DTSTAMP:20260426T034921Z
DTSTART:20250620T183000Z
DTEND:20250620T194500Z
LOCATION:
SUMMARY:Taylor O'Connor (Friday)
DESCRIPTION:Playing LIVE in the Rathskeller Biergarten (Weather Permitting)
  6:30-7:45pm 21+ Prevailing Cover Charge\nhttps://rathskeller.com/events/ta
 ylor-oconnor-friday/
URL:https://rathskeller.com/events/taylor-oconnor-friday/
END:VEVENT
END:VCALENDAR