BEGIN:VCALENDAR
VERSION:2.0
PRODID:-//eventon.com NONSGML v1.0//EN
CALSCALE:GREGORIAN
METHOD:PUBLISH
BEGIN:VEVENT
UID:69ed4e9ad1d93
DTSTAMP:20260425T233034Z
DTSTART:20250816T130000Z
DTEND:20250816T160000Z
LOCATION:
SUMMARY:Warrior Kings (Saturday)
DESCRIPTION:Playing LIVE in the Rathskeller Biergarten (Weather Permitting)
  1-4pm 21+ Prevailing Cover Charge\nhttps://rathskeller.com/events/warrior-
 kings-saturday-3/
URL:https://rathskeller.com/events/warrior-kings-saturday-3/
END:VEVENT
END:VCALENDAR