BEGIN:VCALENDAR
VERSION:2.0
PRODID:-//eventon.com NONSGML v1.0//EN
CALSCALE:GREGORIAN
METHOD:PUBLISH
BEGIN:VEVENT
UID:69ed3cca658c6
DTSTAMP:20260425T221434Z
DTSTART:20250817T110000Z
DTEND:20250817T000000Z
LOCATION:
SUMMARY:Biergarten CLOSED (Sunday)
DESCRIPTION:The Biergarten will be closed for a private event!\nhttps://rat
 hskeller.com/events/biergarten-closed-sunday-5/
URL:https://rathskeller.com/events/biergarten-closed-sunday-5/
END:VEVENT
END:VCALENDAR