BEGIN:VCALENDAR
VERSION:2.0
PRODID:-//eventon.com NONSGML v1.0//EN
CALSCALE:GREGORIAN
METHOD:PUBLISH
BEGIN:VEVENT
UID:69ed2ae11df4d
DTSTAMP:20260425T205809Z
DTSTART:20250830T130000Z
DTEND:20250830T160000Z
LOCATION:
SUMMARY:Aimee & Dave (Saturday)
DESCRIPTION:Playing LIVE in the Rathskeller Biergarten (Weather Permitting)
  1-4pm 21+ Prevailing Cover Charge\nhttps://rathskeller.com/events/aimee-da
 ve-saturday-5/
URL:https://rathskeller.com/events/aimee-dave-saturday-5/
END:VEVENT
END:VCALENDAR