BEGIN:VCALENDAR
VERSION:2.0
PRODID:-//eventon.com NONSGML v1.0//EN
CALSCALE:GREGORIAN
METHOD:PUBLISH
BEGIN:VEVENT
UID:69ed1937585ac
DTSTAMP:20260425T194247Z
DTSTART:20250830T163000Z
DTEND:20250830T183000Z
LOCATION:
SUMMARY:Bastion Rose (Saturday)
DESCRIPTION:Playing LIVE in the Rathskeller Biergarten (Weather Permitting)
  4:30-6:30pm 21+ Prevailing Cover Charge\nhttps://rathskeller.com/events/ba
 stion-rose-saturday/
URL:https://rathskeller.com/events/bastion-rose-saturday/
END:VEVENT
END:VCALENDAR