BEGIN:VCALENDAR
VERSION:2.0
PRODID:-//eventon.com NONSGML v1.0//EN
CALSCALE:GREGORIAN
METHOD:PUBLISH
BEGIN:VEVENT
UID:69ed05ef5a58f
DTSTAMP:20260425T182031Z
DTSTART:20250906T170000Z
DTEND:20250906T190000Z
LOCATION:
SUMMARY:Standout Story (Saturday)
DESCRIPTION:Playing LIVE in the Rathskeller Biergarten (Weather Permitting)
  5:00-7:00pm 21+ Prevailing Cover Charge\nhttps://rathskeller.com/events/st
 andout-story-saturday-3/
URL:https://rathskeller.com/events/standout-story-saturday-3/
END:VEVENT
END:VCALENDAR