BEGIN:VCALENDAR
VERSION:2.0
PRODID:-//eventon.com NONSGML v1.0//EN
CALSCALE:GREGORIAN
METHOD:PUBLISH
BEGIN:VEVENT
UID:69ecf51022985
DTSTAMP:20260425T170832Z
DTSTART:20250912T183000Z
DTEND:20250912T194500Z
LOCATION:
SUMMARY:TreeHouse! (Friday)
DESCRIPTION:Playing LIVE in the Rathskeller Biergarten (Weather Permitting)
  6:30-7:45pm 21+ Prevailing Cover Charge\nhttps://rathskeller.com/events/tr
 eehouse-friday/
URL:https://rathskeller.com/events/treehouse-friday/
END:VEVENT
END:VCALENDAR