BEGIN:VCALENDAR
VERSION:2.0
PRODID:-//eventon.com NONSGML v1.0//EN
CALSCALE:GREGORIAN
METHOD:PUBLISH
BEGIN:VEVENT
UID:69ece494d507f
DTSTAMP:20260425T155812Z
DTSTART:20250913T170000Z
DTEND:20250913T190000Z
LOCATION:
SUMMARY:TreeHouse! (Saturday)
DESCRIPTION:Playing LIVE in the Rathskeller Biergarten (Weather Permitting)
  5-7pm 21+ Prevailing Cover Charge\nhttps://rathskeller.com/events/treehous
 e-saturday/
URL:https://rathskeller.com/events/treehouse-saturday/
END:VEVENT
END:VCALENDAR