BEGIN:VCALENDAR
VERSION:2.0
PRODID:-//eventon.com NONSGML v1.0//EN
CALSCALE:GREGORIAN
METHOD:PUBLISH
BEGIN:VEVENT
UID:69ecf51b53441
DTSTAMP:20260425T170843Z
DTSTART:20251018T150000Z
DTEND:20251018T180000Z
LOCATION:
SUMMARY:Bastion Rose (Saturday)
DESCRIPTION:Playing LIVE in the Rathskeller Biergarten (Weather Permitting)
  3-6pm 21+ Prevailing Cover Charge\nhttps://rathskeller.com/events/bastion-
 rose-saturday-2/
URL:https://rathskeller.com/events/bastion-rose-saturday-2/
END:VEVENT
END:VCALENDAR