BEGIN:VCALENDAR
VERSION:2.0
PRODID:-//eventon.com NONSGML v1.0//EN
CALSCALE:GREGORIAN
METHOD:PUBLISH
BEGIN:VEVENT
UID:69ed039fe293b
DTSTAMP:20260425T181039Z
DTSTART:20251025T150000Z
DTEND:20251025T180000Z
LOCATION:
SUMMARY:Warrior Kings (Saturday)
DESCRIPTION:Playing LIVE in the Rathskeller Biergarten (Weather Permitting)
  3-6pm 21+ Prevailing Cover Charge\nhttps://rathskeller.com/events/warrior-
 kings-saturday-4/
URL:https://rathskeller.com/events/warrior-kings-saturday-4/
END:VEVENT
END:VCALENDAR