BEGIN:VCALENDAR
VERSION:2.0
PRODID:-//eventon.com NONSGML v1.0//EN
CALSCALE:GREGORIAN
METHOD:PUBLISH
BEGIN:VEVENT
UID:69ed14781489d
DTSTAMP:20260425T192232Z
DTSTART:20250622T160000Z
DTEND:20250622T190000Z
LOCATION:
SUMMARY:Unleashed! (Sunday)
DESCRIPTION:Unleashed! A family-friendly battle-of-the-bands all in support
  of raising money for the city&#8217;s homeless and vulnerable animals. Sun
 day\,  June 22 4pm-7pm $25 ($30 at the door)&nbsp; Kids under 10 attend for
  free More information and tickets are available&nbsp;here:&nbsp;https://fr
 iendsofindyanimals.org/unleashed/\nhttps://rathskeller.com/events/unleashed
 -sunday/
URL:https://rathskeller.com/events/unleashed-sunday/
END:VEVENT
END:VCALENDAR