BEGIN:VCALENDAR
VERSION:2.0
PRODID:-//eventon.com NONSGML v1.0//EN
CALSCALE:GREGORIAN
METHOD:PUBLISH
BEGIN:VEVENT
UID:69ed2776c0df0
DTSTAMP:20260425T204334Z
DTSTART:20250628T130000Z
DTEND:20250628T160000Z
LOCATION:
SUMMARY:Emma Zinck (Saturday)
DESCRIPTION:Playing LIVE in the Rathskeller Biergarten 1-4pm 21+ Prevailing
  Cover Charge\nhttps://rathskeller.com/events/emma-zinck-saturday-2/
URL:https://rathskeller.com/events/emma-zinck-saturday-2/
END:VEVENT
END:VCALENDAR