BEGIN:VCALENDAR
VERSION:2.0
PRODID:-//eventon.com NONSGML v1.0//EN
CALSCALE:GREGORIAN
METHOD:PUBLISH
BEGIN:VEVENT
UID:69ed38789cbf9
DTSTAMP:20260425T215608Z
DTSTART:20250615T103000Z
DTEND:20250615T150000Z
LOCATION:
SUMMARY:Das Garten Grillfest
DESCRIPTION:If you’ve never been to a real hog roast (or spanferkel as th
 e Germans call it)\,  now’s your chance! Celebrate dads and summer with u
 s at Das GartenGrillFest\,  a backyard barbecue brunch (say that 5 times fa
 st!) for our Athenaeum friends and family. Grab a plate and get in line[..]
 \nhttps://rathskeller.com/events/das-garten-grillfest/
URL:https://rathskeller.com/events/das-garten-grillfest/
END:VEVENT
END:VCALENDAR