BEGIN:VCALENDAR
VERSION:2.0
PRODID:-//eventon.com NONSGML v1.0//EN
CALSCALE:GREGORIAN
METHOD:PUBLISH
BEGIN:VEVENT
UID:69ed4d6778c6f
DTSTAMP:20260425T232527Z
DTSTART:20250808T180000Z
DTEND:20250808T193000Z
LOCATION:
SUMMARY:Gordon Bonham (Friday)
DESCRIPTION:Playing LIVE in the Rathskeller Biergarten 6-7:30pm (Weather Pe
 rmitting) 21+ Prevailing Cover Charge\nhttps://rathskeller.com/events/gordo
 n-bonham-friday-4/
URL:https://rathskeller.com/events/gordon-bonham-friday-4/
END:VEVENT
END:VCALENDAR