BEGIN:VCALENDAR
VERSION:2.0
PRODID:-//eventon.com NONSGML v1.0//EN
CALSCALE:GREGORIAN
METHOD:PUBLISH
BEGIN:VEVENT
UID:69ed5f3b89832
DTSTAMP:20260426T004131Z
DTSTART:20250614T130000Z
DTEND:20250614T160000Z
LOCATION:
SUMMARY:Steve Honeycutt (Saturday)
DESCRIPTION:Playing LIVE in the Rathskeller Biergarten (Weather Permitting)
  1-4pm 21+ Prevailing Cover Charge\nhttps://rathskeller.com/events/steve-ho
 neycutt-saturday/
URL:https://rathskeller.com/events/steve-honeycutt-saturday/
END:VEVENT
END:VCALENDAR