BEGIN:VCALENDAR
VERSION:2.0
PRODID:-//eventon.com NONSGML v1.0//EN
CALSCALE:GREGORIAN
METHOD:PUBLISH
BEGIN:VEVENT
UID:69ed70ea40881
DTSTAMP:20260426T015658Z
DTSTART:20250705T130000Z
DTEND:20250705T160000Z
LOCATION:
SUMMARY:Aliyah Good (Saturday)
DESCRIPTION:Playing LIVE in the Rathskeller Biergarten (Weather Permitting)
  1-4pm 21+ Prevailing Cover Charge\nhttps://rathskeller.com/events/aliyah-g
 ood-saturday/
URL:https://rathskeller.com/events/aliyah-good-saturday/
END:VEVENT
END:VCALENDAR