BEGIN:VCALENDAR
VERSION:2.0
PRODID:-//eventon.com NONSGML v1.0//EN
CALSCALE:GREGORIAN
METHOD:PUBLISH
BEGIN:VEVENT
UID:69ed6de2184ba
DTSTAMP:20260426T014402Z
DTSTART:20250905T183000Z
DTEND:20250905T194500Z
LOCATION:
SUMMARY:Jessie Haines (Friday)
DESCRIPTION:Playing LIVE in the Rathskeller Biergarten 6:30-7:45 (Weather P
 ermitting). 21+ Prevailing Cover charge\nhttps://rathskeller.com/events/jes
 sie-haines-friday-2/
URL:https://rathskeller.com/events/jessie-haines-friday-2/
END:VEVENT
END:VCALENDAR