BEGIN:VCALENDAR
VERSION:2.0
PRODID:-//eventon.com NONSGML v1.0//EN
CALSCALE:GREGORIAN
METHOD:PUBLISH
BEGIN:VEVENT
UID:69ed5e520930a
DTSTAMP:20260426T003738Z
DTSTART:20250906T130000Z
DTEND:20250906T160000Z
LOCATION:
SUMMARY:Jessie Haines (Saturday)
DESCRIPTION:Playing LIVE in the Rathskeller Biergarten 1-4pm (Weather Permi
 tting). 21+ Prevailing Cover Charge\nhttps://rathskeller.com/events/jessie-
 haines-saturday/
URL:https://rathskeller.com/events/jessie-haines-saturday/
END:VEVENT
END:VCALENDAR