BEGIN:VCALENDAR
VERSION:2.0
PRODID:-//eventon.com NONSGML v1.0//EN
CALSCALE:GREGORIAN
METHOD:PUBLISH
BEGIN:VEVENT
UID:69ed4d9064c56
DTSTAMP:20260425T232608Z
DTSTART:20250914T140000Z
DTEND:20250914T170000Z
LOCATION:
SUMMARY:Steve Fulton (Sunday)
DESCRIPTION:Playing LIVE in the Rathskeller Biergarten 2-5pm (Weather Permi
 tting) 21+ Prevailing Cover Charge\nhttps://rathskeller.com/events/steve-fu
 lton-sunday/
URL:https://rathskeller.com/events/steve-fulton-sunday/
END:VEVENT
END:VCALENDAR