BEGIN:VCALENDAR
VERSION:2.0
PRODID:-//eventon.com NONSGML v1.0//EN
CALSCALE:GREGORIAN
METHOD:PUBLISH
BEGIN:VEVENT
UID:69ed38b669650
DTSTAMP:20260425T215710Z
DTSTART:20251012T110000Z
DTEND:20251012T230000Z
LOCATION:
SUMMARY:Biergarten CLOSED (Sunday)
DESCRIPTION:The Biergarten will be CLOSED for a private event!\nhttps://rat
 hskeller.com/events/biergarten-closed-sunday-6/
URL:https://rathskeller.com/events/biergarten-closed-sunday-6/
END:VEVENT
END:VCALENDAR