BEGIN:VCALENDAR
VERSION:2.0
PRODID:-//eventon.com NONSGML v1.0//EN
CALSCALE:GREGORIAN
METHOD:PUBLISH
BEGIN:VEVENT
UID:69ed25b3e447e
DTSTAMP:20260425T203603Z
DTSTART:20251017T200000Z
DTEND:20251017T230000Z
LOCATION:
SUMMARY:Ivan Pulley Band (Friday)
DESCRIPTION:Playing LIVE in the Rathskeller Biergarten 8-11pm (Weather Perm
 itting) 21+ Prevailing Cover Charge\nhttps://rathskeller.com/events/ivan-pu
 lley-band-friday/
URL:https://rathskeller.com/events/ivan-pulley-band-friday/
END:VEVENT
END:VCALENDAR