BEGIN:VCALENDAR
VERSION:2.0
PRODID:-//eventon.com NONSGML v1.0//EN
CALSCALE:GREGORIAN
METHOD:PUBLISH
BEGIN:VEVENT
UID:69ed013bbc79b
DTSTAMP:20260425T180027Z
DTSTART:20250824T140000Z
DTEND:20250824T170000Z
LOCATION:
SUMMARY:Hot Rod Mik & The Fenders (Sunday)
DESCRIPTION:Playing LIVE in the Rathskeller Biergarten (Weather Permitting)
  2-5pm 21+ Prevailing Cover Charge\nhttps://rathskeller.com/events/hot-rod-
 milk-sunday/
URL:https://rathskeller.com/events/hot-rod-milk-sunday/
END:VEVENT
END:VCALENDAR