BEGIN:VCALENDAR
VERSION:2.0
PRODID:-//eventon.com NONSGML v1.0//EN
CALSCALE:GREGORIAN
METHOD:PUBLISH
BEGIN:VEVENT
UID:69ecf2f8e7c2b
DTSTAMP:20260425T165936Z
DTSTART:20250918T183000Z
DTEND:20250918T213000Z
LOCATION:
SUMMARY:Corey Cox & Alexander Camp (Thursday)
DESCRIPTION:Playing LIVE in the Biergarten 6:30-9:30pm! 21+ Prevailing Cove
 r Charge\nhttps://rathskeller.com/events/corey-cox-alexander-camp-thursday-
 5/
URL:https://rathskeller.com/events/corey-cox-alexander-camp-thursday-5/
END:VEVENT
END:VCALENDAR