BEGIN:VCALENDAR
VERSION:2.0
PRODID:-//eventon.com NONSGML v1.0//EN
CALSCALE:GREGORIAN
METHOD:PUBLISH
BEGIN:VEVENT
UID:69ece28212e7c
DTSTAMP:20260425T154922Z
DTSTART:20251011T160000Z
DTEND:20251011T190000Z
LOCATION:
SUMMARY:Opal (Saturday)
DESCRIPTION:Playing LIVE in the Rathskeller Biergarten 4-7pm 21+ Prevailing
  Cover Charge\nhttps://rathskeller.com/events/opal-saturday/
URL:https://rathskeller.com/events/opal-saturday/
END:VEVENT
END:VCALENDAR