BEGIN:VCALENDAR
VERSION:2.0
PRODID:-//eventon.com NONSGML v1.0//EN
CALSCALE:GREGORIAN
METHOD:PUBLISH
BEGIN:VEVENT
UID:69ecf17a661d6
DTSTAMP:20260425T165314Z
DTSTART:20251101T190000Z
DTEND:20251101T220000Z
LOCATION:
SUMMARY:Mark Taylor (Saturday)
DESCRIPTION:Playing LIVE in the Rathskeller KELLERBAR!! 21+ free show!\nhtt
 ps://rathskeller.com/events/mark-taylor-saturday-3/
URL:https://rathskeller.com/events/mark-taylor-saturday-3/
END:VEVENT
END:VCALENDAR