BEGIN:VCALENDAR
VERSION:2.0
PRODID:-//eventon.com NONSGML v1.0//EN
CALSCALE:GREGORIAN
METHOD:PUBLISH
BEGIN:VEVENT
UID:69ed016394998
DTSTAMP:20260425T180107Z
DTSTART:20251107T190000Z
DTEND:20251107T220000Z
LOCATION:
SUMMARY:Brian Goins Band (CANCELLED)
DESCRIPTION:EVENT HAS BEEN CANCELLED!!\nhttps://rathskeller.com/events/bria
 n-goins-band-saturday-5/
URL:https://rathskeller.com/events/brian-goins-band-saturday-5/
END:VEVENT
END:VCALENDAR