BEGIN:VCALENDAR
VERSION:2.0
PRODID:-//eventon.com NONSGML v1.0//EN
CALSCALE:GREGORIAN
METHOD:PUBLISH
BEGIN:VEVENT
UID:69ed13e104277
DTSTAMP:20260425T192001Z
DTSTART:20251108T190000Z
DTEND:20251108T230000Z
LOCATION:
SUMMARY:Jukebox Luke (CANCELLED)
DESCRIPTION:EVENT HAS BEEN CANCELLED!!\nhttps://rathskeller.com/events/juke
 box-luke-saturday-12/
URL:https://rathskeller.com/events/jukebox-luke-saturday-12/
END:VEVENT
END:VCALENDAR