BEGIN:VCALENDAR
VERSION:2.0
PRODID:-//eventon.com NONSGML v1.0//EN
CALSCALE:GREGORIAN
METHOD:PUBLISH
BEGIN:VEVENT
UID:69ed26f1b8556
DTSTAMP:20260425T204121Z
DTSTART:20251127T090000Z
DTEND:20251127T000000Z
LOCATION:
SUMMARY:CLOSED! HAPPY THANKSGIVING!
DESCRIPTION:We will be closed for Thanksgiving!!\nhttps://rathskeller.com/e
 vents/closed-happy-thanksgiving/
URL:https://rathskeller.com/events/closed-happy-thanksgiving/
END:VEVENT
END:VCALENDAR