BEGIN:VCALENDAR
VERSION:2.0
PRODID:-//eventon.com NONSGML v1.0//EN
CALSCALE:GREGORIAN
METHOD:PUBLISH
BEGIN:VEVENT
UID:69ed396a9beff
DTSTAMP:20260425T220010Z
DTSTART:20251129T193000Z
DTEND:20251129T103000Z
LOCATION:
SUMMARY:Benito DiBartoli (Saturday)
DESCRIPTION:Playing LIVE at the Rathskeller 7:30-10:30pm 21+ Prevailing Cov
 er Charge\nhttps://rathskeller.com/events/benito-dibartoli-saturday-6/
URL:https://rathskeller.com/events/benito-dibartoli-saturday-6/
END:VEVENT
END:VCALENDAR