BEGIN:VCALENDAR
VERSION:2.0
PRODID:-//eventon.com NONSGML v1.0//EN
CALSCALE:GREGORIAN
METHOD:PUBLISH
BEGIN:VEVENT
UID:69ed4cdc868c6
DTSTAMP:20260425T232308Z
DTSTART:20251205T193000Z
DTEND:20251205T223000Z
LOCATION:
SUMMARY:Phil Pierle (Friday)
DESCRIPTION:Playing LIVE at the Rathskeller 8-11pm 21+\nhttps://rathskeller
 .com/events/phil-pierle-friday-8/
URL:https://rathskeller.com/events/phil-pierle-friday-8/
END:VEVENT
END:VCALENDAR