BEGIN:VCALENDAR
VERSION:2.0
PRODID:-//eventon.com NONSGML v1.0//EN
CALSCALE:GREGORIAN
METHOD:PUBLISH
BEGIN:VEVENT
UID:69ed5ef02dec0
DTSTAMP:20260426T004016Z
DTSTART:20251206T193000Z
DTEND:20251206T223000Z
LOCATION:
SUMMARY:Brady Lee (Saturday)
DESCRIPTION:Playing LIVE at the Rathskeller 7:30-10:30pm 21+\nhttps://raths
 keller.com/events/brady-lee-saturday-9/
URL:https://rathskeller.com/events/brady-lee-saturday-9/
END:VEVENT
END:VCALENDAR