BEGIN:VCALENDAR
VERSION:2.0
PRODID:-//eventon.com NONSGML v1.0//EN
CALSCALE:GREGORIAN
METHOD:PUBLISH
BEGIN:VEVENT
UID:69eb9f017fdb4
DTSTAMP:20260424T164905Z
DTSTART:20260718T130000Z
DTEND:20260718T160000Z
LOCATION:
SUMMARY:Gordon Bonham (Saturday)
DESCRIPTION:Playing LIVE in the Rathskeller Biergarten! (weather permitting
 ) 1-4pm. Prevailing Cover Charge. +21\nhttps://rathskeller.com/events/gordo
 n-bonham-saturday-9/
URL:https://rathskeller.com/events/gordon-bonham-saturday-9/
END:VEVENT
END:VCALENDAR