BEGIN:VCALENDAR
VERSION:2.0
PRODID:-//eventon.com NONSGML v1.0//EN
CALSCALE:GREGORIAN
METHOD:PUBLISH
BEGIN:VEVENT
UID:69eb8d9dd2ed3
DTSTAMP:20260424T153453Z
DTSTART:20260723T190000Z
DTEND:20260723T220000Z
LOCATION:
SUMMARY:Brady Lee (Thursday)
DESCRIPTION:Playing LIVE in the Rathskeller Biergarten! (weather permitting
 ) 7-10pm. Prevailing Cover Charge. +21\nhttps://rathskeller.com/events/brad
 y-lee-thursday-2/
URL:https://rathskeller.com/events/brady-lee-thursday-2/
END:VEVENT
END:VCALENDAR