BEGIN:VCALENDAR
VERSION:2.0
PRODID:-//eventon.com NONSGML v1.0//EN
CALSCALE:GREGORIAN
METHOD:PUBLISH
BEGIN:VEVENT
UID:69eb793e78569
DTSTAMP:20260424T140758Z
DTSTART:20260730T190000Z
DTEND:20260730T220000Z
LOCATION:
SUMMARY:The Black Moods (Thursday)
DESCRIPTION:Playing LIVE in the Rathskeller Biergarten! (weather permitting
 ) 7-10pm. Prevailing Cover Charge. +21\nhttps://rathskeller.com/events/the-
 black-moods-thursday-2/
URL:https://rathskeller.com/events/the-black-moods-thursday-2/
END:VEVENT
END:VCALENDAR