BEGIN:VCALENDAR
VERSION:2.0
PRODID:-//eventon.com NONSGML v1.0//EN
CALSCALE:GREGORIAN
METHOD:PUBLISH
BEGIN:VEVENT
UID:69eb666ddd205
DTSTAMP:20260424T124741Z
DTSTART:20260726T140000Z
DTEND:20260726T170000Z
LOCATION:
SUMMARY:Aimee Eisenmann Duo (Sunday)
DESCRIPTION:Playing LIVE in the Rathskeller Biergarten! (weather permitting
 ) 2-5pm. Prevailing Cover Charge. +21\nhttps://rathskeller.com/events/aimee
 -eisenmann-duo-sunday-6/
URL:https://rathskeller.com/events/aimee-eisenmann-duo-sunday-6/
END:VEVENT
END:VCALENDAR